BEGIN:VCALENDAR
VERSION:2.0
PRODID:-//menschenraum.com - ECPv6.9.1//NONSGML v1.0//EN
CALSCALE:GREGORIAN
METHOD:PUBLISH
X-WR-CALNAME:menschenraum.com
X-ORIGINAL-URL:https://menschenraum.com
X-WR-CALDESC:Veranstaltungen für menschenraum.com
REFRESH-INTERVAL;VALUE=DURATION:PT1H
X-Robots-Tag:noindex
X-PUBLISHED-TTL:PT1H
BEGIN:VTIMEZONE
TZID:Europe/Berlin
BEGIN:DAYLIGHT
TZOFFSETFROM:+0100
TZOFFSETTO:+0200
TZNAME:CEST
DTSTART:20250330T010000
END:DAYLIGHT
BEGIN:STANDARD
TZOFFSETFROM:+0200
TZOFFSETTO:+0100
TZNAME:CET
DTSTART:20251026T010000
END:STANDARD
END:VTIMEZONE
BEGIN:VEVENT
DTSTART;TZID=Europe/Berlin:20250705T090000
DTEND;TZID=Europe/Berlin:20250705T130000
DTSTAMP:20260422T014005
CREATED:20250506T134214Z
LAST-MODIFIED:20250623T114817Z
UID:1440-1751706000-1751720400@menschenraum.com
SUMMARY:Human Design Workshop
DESCRIPTION:Komm mit auf eine spannende Reise zu deinem energetischen Fahrplan für mehr Klarheit\, Leichtigkeit und Selbstvertrauen im Leben!\nAm 5. Juli 2025 im menschen:raum in Esslingen.\nVon 9:00-13:00 Uhr (mit Pause und Snacks).\n\n\n\n\n\n\n\n\n\n\n\n\nVerstehe dein Design – erkenne deine Energie: Du bekommst einen Überblick über das Human Design System und lernst\, wie du deine Energie entschlüsseln und im Alltag nutzen kannst. \n\n\n\n\n\n\n\n\n\n\n\n\nHuman Design in Aktion – alltagstauglich & praxisnah: Durch Übungen\, Reflexionen und greifbare Beispiele erlebst du\, wie Human Design dein Leben und deine Arbeit konkret verändern kann. \n\n\n\n\n\n\n\n\n\n\n\n\nDein energetischer Fingerabdruck -entschlüsselt: Wir tauchen ein in die 4 Human Design Basics: Typen\, Strategien\, Autoritäten & Profile.
URL:https://menschenraum.com/event/human-design-workshop/
LOCATION:frei:raum
CATEGORIES:Workshop
END:VEVENT
END:VCALENDAR